BEGIN:VCALENDAR
VERSION:2.0
PRODID:-//Västra Karateförbundet - ECPv6.15.20//NONSGML v1.0//EN
CALSCALE:GREGORIAN
METHOD:PUBLISH
X-WR-CALNAME:Västra Karateförbundet
X-ORIGINAL-URL:https://vastrakarate.se
X-WR-CALDESC:Händelser för Västra Karateförbundet
REFRESH-INTERVAL;VALUE=DURATION:PT1H
X-Robots-Tag:noindex
X-PUBLISHED-TTL:PT1H
BEGIN:VTIMEZONE
TZID:Europe/Stockholm
BEGIN:DAYLIGHT
TZOFFSETFROM:+0100
TZOFFSETTO:+0200
TZNAME:CEST
DTSTART:20240331T010000
END:DAYLIGHT
BEGIN:STANDARD
TZOFFSETFROM:+0200
TZOFFSETTO:+0100
TZNAME:CET
DTSTART:20241027T010000
END:STANDARD
BEGIN:DAYLIGHT
TZOFFSETFROM:+0100
TZOFFSETTO:+0200
TZNAME:CEST
DTSTART:20250330T010000
END:DAYLIGHT
BEGIN:STANDARD
TZOFFSETFROM:+0200
TZOFFSETTO:+0100
TZNAME:CET
DTSTART:20251026T010000
END:STANDARD
BEGIN:DAYLIGHT
TZOFFSETFROM:+0100
TZOFFSETTO:+0200
TZNAME:CEST
DTSTART:20260329T010000
END:DAYLIGHT
BEGIN:STANDARD
TZOFFSETFROM:+0200
TZOFFSETTO:+0100
TZNAME:CET
DTSTART:20261025T010000
END:STANDARD
END:VTIMEZONE
BEGIN:VEVENT
DTSTART;TZID=Europe/Stockholm:20250308T123000
DTEND;TZID=Europe/Stockholm:20250308T140000
DTSTAMP:20260421T062040
CREATED:20241215T221711Z
LAST-MODIFIED:20260112T080802Z
UID:2466-1741437000-1741442400@vastrakarate.se
SUMMARY:VKF Årsmöte 2025
DESCRIPTION:Västra Karateförbundet kallar till årsmöte. \nTid: lördag den 8 mars 2025.\nLokal Meddelas senare \nProgram\nFullmaktsgranskning: kl. 12.30-13.00\nÅrsmötet startar: Kl. 13.00\nSluttid: Ca kl. 14.30 \n> Årsmöteshandlingar 2025 \n\nOmbud kan bära max 2 fullmakter.\nFöranmälan För bästa planering önskar vi att ombud gör en föranmälan senast den 1 mars per e-post till vastrakarate@gmail.com \nVilka föreningar får delta\nSamtliga föreningar som upptas på röstlängden enligt villkor i stadgarna är välkomna att närvara med ombud. \nFör rösträtt erfordras inbetald årsavgift för 2025 till både VKF och SKF senast 2024-12-31 samt att föreningen har inga skulder till VKF för verksamhetsår 2023 och 2024.\n \nMotioner till årsmötet ska vara styrelsen tillhanda senast den 1 januari 2025.\nMotioner ska e-postas till: vastrakarate@gmail.com \nKONTAKT\nStyrelse VKF\nOrdförande: Siamak Rezaie\nTel: 0704-44 10 25\nE-post: vastrakarate@gmail.com \nValberedning\nOrdförande: Thomas Leinfors\nTel: 0704-83 46 66\nE-post:thomas.leinfors@gmail.com \nVarmt Välkomna!\nStyrelsen för Västra Karateförbundet
URL:https://vastrakarate.se/event/arsmote2025/
CATEGORIES:Årsmöte
ORGANIZER;CN="V%C3%A4stra Karatef%C3%B6rbundet":MAILTO:vastrakarate@gmail.com
END:VEVENT
END:VCALENDAR