BEGIN:VCALENDAR
VERSION:2.0
PRODID:-//Västra Karateförbundet - ECPv6.15.20//NONSGML v1.0//EN
CALSCALE:GREGORIAN
METHOD:PUBLISH
X-ORIGINAL-URL:https://vastrakarate.se
X-WR-CALDESC:Händelser för Västra Karateförbundet
REFRESH-INTERVAL;VALUE=DURATION:PT1H
X-Robots-Tag:noindex
X-PUBLISHED-TTL:PT1H
BEGIN:VTIMEZONE
TZID:Europe/Stockholm
BEGIN:DAYLIGHT
TZOFFSETFROM:+0100
TZOFFSETTO:+0200
TZNAME:CEST
DTSTART:20230326T010000
END:DAYLIGHT
BEGIN:STANDARD
TZOFFSETFROM:+0200
TZOFFSETTO:+0100
TZNAME:CET
DTSTART:20231029T010000
END:STANDARD
BEGIN:DAYLIGHT
TZOFFSETFROM:+0100
TZOFFSETTO:+0200
TZNAME:CEST
DTSTART:20240331T010000
END:DAYLIGHT
BEGIN:STANDARD
TZOFFSETFROM:+0200
TZOFFSETTO:+0100
TZNAME:CET
DTSTART:20241027T010000
END:STANDARD
BEGIN:DAYLIGHT
TZOFFSETFROM:+0100
TZOFFSETTO:+0200
TZNAME:CEST
DTSTART:20250330T010000
END:DAYLIGHT
BEGIN:STANDARD
TZOFFSETFROM:+0200
TZOFFSETTO:+0100
TZNAME:CET
DTSTART:20251026T010000
END:STANDARD
END:VTIMEZONE
BEGIN:VEVENT
DTSTART;TZID=Europe/Stockholm:20240420T093000
DTEND;TZID=Europe/Stockholm:20240420T160000
DTSTAMP:20260421T184840
CREATED:20240204T224519Z
LAST-MODIFIED:20240302T005750Z
UID:2006-1713605400-1713628800@vastrakarate.se
SUMMARY:Distriktsdomarkurs & regelseminarium
DESCRIPTION:Den 20 april inbjuder VKF till distriktsdomarkurs samt regelseminarium i WKF regelverk för intresserade tävlande\, coacher\, klubbledare samt blivande domare. \nNu finns det ett ypperligt tillfälle att gå på kurs & regelseminarium i både kata & kumite. I kursen kommer vi att gå igenom både WKF- och distriktsregelverk. \nSom distriktsdomare får man döma på klubbmästerskap och tävlingar med distriktsregler som flaggdomare. \nSkillnaden mellan WKF- och distriktsreglerna är huvudsakligen att det inte är tillåtet med kontakt mot huvudet\, färre krav på antal domare per tatami\, enklare krav på utrustning och medicinsk personal. \nVad är distriktsregler? > SDF-regelverk för tävlingar
URL:https://vastrakarate.se/event/distriktsdomarkurs-regelseminarium/
CATEGORIES:Seminarium
ORGANIZER;CN="V%C3%A4stra Karatef%C3%B6rbundet":MAILTO:vastrakarate@gmail.com
END:VEVENT
END:VCALENDAR